BEGIN:VCALENDAR
VERSION:2.0
PRODID:-//Slipstream Productions - ECPv6.15.20//NONSGML v1.0//EN
CALSCALE:GREGORIAN
METHOD:PUBLISH
X-WR-CALNAME:Slipstream Productions
X-ORIGINAL-URL:https://garrett-martin.com
X-WR-CALDESC:Events for Slipstream Productions
REFRESH-INTERVAL;VALUE=DURATION:PT1H
X-Robots-Tag:noindex
X-PUBLISHED-TTL:PT1H
BEGIN:VTIMEZONE
TZID:America/Los_Angeles
BEGIN:DAYLIGHT
TZOFFSETFROM:-0800
TZOFFSETTO:-0700
TZNAME:PDT
DTSTART:20240310T100000
END:DAYLIGHT
BEGIN:STANDARD
TZOFFSETFROM:-0700
TZOFFSETTO:-0800
TZNAME:PST
DTSTART:20241103T090000
END:STANDARD
BEGIN:DAYLIGHT
TZOFFSETFROM:-0800
TZOFFSETTO:-0700
TZNAME:PDT
DTSTART:20250309T100000
END:DAYLIGHT
BEGIN:STANDARD
TZOFFSETFROM:-0700
TZOFFSETTO:-0800
TZNAME:PST
DTSTART:20251102T090000
END:STANDARD
BEGIN:DAYLIGHT
TZOFFSETFROM:-0800
TZOFFSETTO:-0700
TZNAME:PDT
DTSTART:20260308T100000
END:DAYLIGHT
BEGIN:STANDARD
TZOFFSETFROM:-0700
TZOFFSETTO:-0800
TZNAME:PST
DTSTART:20261101T090000
END:STANDARD
BEGIN:DAYLIGHT
TZOFFSETFROM:-0800
TZOFFSETTO:-0700
TZNAME:PDT
DTSTART:20270314T100000
END:DAYLIGHT
BEGIN:STANDARD
TZOFFSETFROM:-0700
TZOFFSETTO:-0800
TZNAME:PST
DTSTART:20271107T090000
END:STANDARD
END:VTIMEZONE
BEGIN:VTIMEZONE
TZID:America/Denver
BEGIN:DAYLIGHT
TZOFFSETFROM:-0700
TZOFFSETTO:-0600
TZNAME:MDT
DTSTART:20230312T090000
END:DAYLIGHT
BEGIN:STANDARD
TZOFFSETFROM:-0600
TZOFFSETTO:-0700
TZNAME:MST
DTSTART:20231105T080000
END:STANDARD
BEGIN:DAYLIGHT
TZOFFSETFROM:-0700
TZOFFSETTO:-0600
TZNAME:MDT
DTSTART:20240310T090000
END:DAYLIGHT
BEGIN:STANDARD
TZOFFSETFROM:-0600
TZOFFSETTO:-0700
TZNAME:MST
DTSTART:20241103T080000
END:STANDARD
BEGIN:DAYLIGHT
TZOFFSETFROM:-0700
TZOFFSETTO:-0600
TZNAME:MDT
DTSTART:20250309T090000
END:DAYLIGHT
BEGIN:STANDARD
TZOFFSETFROM:-0600
TZOFFSETTO:-0700
TZNAME:MST
DTSTART:20251102T080000
END:STANDARD
BEGIN:DAYLIGHT
TZOFFSETFROM:-0700
TZOFFSETTO:-0600
TZNAME:MDT
DTSTART:20260308T090000
END:DAYLIGHT
BEGIN:STANDARD
TZOFFSETFROM:-0600
TZOFFSETTO:-0700
TZNAME:MST
DTSTART:20261101T080000
END:STANDARD
END:VTIMEZONE
BEGIN:VTIMEZONE
TZID:UTC
BEGIN:STANDARD
TZOFFSETFROM:+0000
TZOFFSETTO:+0000
TZNAME:UTC
DTSTART:20230101T000000
END:STANDARD
END:VTIMEZONE
BEGIN:VTIMEZONE
TZID:America/New_York
BEGIN:DAYLIGHT
TZOFFSETFROM:-0500
TZOFFSETTO:-0400
TZNAME:EDT
DTSTART:20230312T070000
END:DAYLIGHT
BEGIN:STANDARD
TZOFFSETFROM:-0400
TZOFFSETTO:-0500
TZNAME:EST
DTSTART:20231105T060000
END:STANDARD
BEGIN:DAYLIGHT
TZOFFSETFROM:-0500
TZOFFSETTO:-0400
TZNAME:EDT
DTSTART:20240310T070000
END:DAYLIGHT
BEGIN:STANDARD
TZOFFSETFROM:-0400
TZOFFSETTO:-0500
TZNAME:EST
DTSTART:20241103T060000
END:STANDARD
BEGIN:DAYLIGHT
TZOFFSETFROM:-0500
TZOFFSETTO:-0400
TZNAME:EDT
DTSTART:20250309T070000
END:DAYLIGHT
BEGIN:STANDARD
TZOFFSETFROM:-0400
TZOFFSETTO:-0500
TZNAME:EST
DTSTART:20251102T060000
END:STANDARD
BEGIN:DAYLIGHT
TZOFFSETFROM:-0500
TZOFFSETTO:-0400
TZNAME:EDT
DTSTART:20260308T070000
END:DAYLIGHT
BEGIN:STANDARD
TZOFFSETFROM:-0400
TZOFFSETTO:-0500
TZNAME:EST
DTSTART:20261101T060000
END:STANDARD
END:VTIMEZONE
BEGIN:VEVENT
DTSTART;TZID=America/Los_Angeles:20260118T100000
DTEND;TZID=America/Los_Angeles:20260118T150000
DTSTAMP:20260421T080254
CREATED:20250713T214423Z
LAST-MODIFIED:20251230T161028Z
UID:2685-1768730400-1768748400@garrett-martin.com
SUMMARY:POSTPONED!   Music & Message - Afternoon Concert - Vision Center for Spiritual Living San Diego
DESCRIPTION:WE NEED TO POSTPONE OUR TRIP TO CALIFORNIA.  WE WILL LET YOU KNOW WHEN WE CAN RE-SCHEDULE. \nPlease join us for a wonderful day of music & inspiration.  We will give a presentation in the morning\, followed by a potluck and then a concert at 12:30 pm.  $25.  Harmony vocals by Devavani.
URL:https://garrett-martin.com/event/music-message-afternoon-concert-vision-center-for-spiritual-living-san-diego/
LOCATION:Vision Center for Spiritual Living San Diego\, 4780 Mission Gorge Place\, Ste H\, San Diego\, CA\, 92120\, United States
END:VEVENT
BEGIN:VEVENT
DTSTART;TZID=America/Los_Angeles:20260114T190000
DTEND;TZID=America/Los_Angeles:20260114T210000
DTSTAMP:20260421T080254
CREATED:20251227T180549Z
LAST-MODIFIED:20251230T161223Z
UID:2975-1768417200-1768424400@garrett-martin.com
SUMMARY:POSTPONED!  Evening Concert with Rev. Sherry Hursey & Rick Cowling
DESCRIPTION:WE NEED TO POSTPONE OUR TRIP TO CALIFORNIA.  WE WILL LET YOU KNOW WHEN WE CAN RE-SCHEDULE.
URL:https://garrett-martin.com/event/evening-concert-with-rev-sherry-hursey-rick-cowling/
LOCATION:Unity of the Oaks\, 241 Lombard St\, Suite 150\, Thousand Oaks\, CA\, 91360\, United States
END:VEVENT
BEGIN:VEVENT
DTSTART;TZID=America/Los_Angeles:20260111T110000
DTEND;TZID=America/Los_Angeles:20260111T130000
DTSTAMP:20260421T080254
CREATED:20250929T161845Z
LAST-MODIFIED:20251230T161139Z
UID:2844-1768129200-1768136400@garrett-martin.com
SUMMARY:POSTPONED!   Music & Message - Unity of Tustin
DESCRIPTION:WE NEED TO POSTPONE OUR TRIP TO CALIFORNIA.  WE WILL LET YOU KNOW WHEN WE CAN RE-SCHEDULE. \nWe are so glad to be coming back to this wonderful community!  We are giving a choir workshop in the afternoon. We hope to see all of you from SoCal!!
URL:https://garrett-martin.com/event/music-message-unity-of-tustin/
LOCATION:Unity of Tustin\, 14402 Prospect Ave Tustin\, CA 92780\, United States
END:VEVENT
BEGIN:VEVENT
DTSTART;TZID=America/Denver:20251107T190000
DTEND;TZID=America/Denver:20251107T210000
DTSTAMP:20260421T080254
CREATED:20250418T161029Z
LAST-MODIFIED:20250906T120507Z
UID:2519-1762542000-1762549200@garrett-martin.com
SUMMARY:Concert - Grand Mesa Arts Center
DESCRIPTION:We are so happy to come back again this Fall to the Grand Mesa Arts Center in Cedaredge.   It’s a fabulous venue supported by a large community of folks on the western slope.  Gretchen McGeeney on harmony vocals.  Click here for tickets and all of the info!
URL:https://garrett-martin.com/event/concert-grand-mesa-arts-center/
LOCATION:Grand Mesa Arts Center\, 195 W. Main Street Cedaredge\, CO 81413
END:VEVENT
BEGIN:VEVENT
DTSTART;TZID=America/Denver:20251025T183000
DTEND;TZID=America/Denver:20251025T203000
DTSTAMP:20260421T080254
CREATED:20250713T214913Z
LAST-MODIFIED:20250713T214913Z
UID:2687-1761417000-1761424200@garrett-martin.com
SUMMARY:Concert - 3rd Street Center\, Carbondale
DESCRIPTION:Marcy Baruch joins us again!   This is our third time to do this wonderful concert\, sponsored by The Center for Human Flourishing.
URL:https://garrett-martin.com/event/concert-3rd-street-center-carbondale-2/
LOCATION:Third Street Center\, 520 S 3rd St\, Carbondale\, CO\, 81623\, United States
END:VEVENT
BEGIN:VEVENT
DTSTART;TZID=UTC:20250922T080000
DTEND;TZID=UTC:20250926T170000
DTSTAMP:20260421T080254
CREATED:20250316T154220Z
LAST-MODIFIED:20250316T154220Z
UID:2496-1758528000-1758906000@garrett-martin.com
SUMMARY:20th Annual Positive Music Festival
DESCRIPTION:We are looking forward to hearing a lot of great music and also singing a few of our songs.  Also saying hello to old friends and new!
URL:https://garrett-martin.com/event/20th-annual-positive-music-festival/
LOCATION:Empower Music Festival\, Unity Village 1901 N.W. Blue Parkway\, Unity Village\, MO\, 64065\, United States
END:VEVENT
BEGIN:VEVENT
DTSTART;TZID=America/Denver:20250912T180000
DTEND;TZID=America/Denver:20250912T200000
DTSTAMP:20260421T080254
CREATED:20250819T230524Z
LAST-MODIFIED:20250819T235635Z
UID:2771-1757700000-1757707200@garrett-martin.com
SUMMARY:Jan Garrett Jazz - Pitkin County Library
DESCRIPTION:Please join Jan and her stellar band for a great evening of jazz….both standards and originals.   She will be joined by Paul Valentine\, Chris Bank\, and Walter Gorra….  NO CHARGE!
URL:https://garrett-martin.com/event/jan-garrett-jazz-concert-pitkin-county-library/
LOCATION:Pitkin Couny Library\, 120 N Mill S\, Aspen\, CO\, 81611\, United States
END:VEVENT
BEGIN:VEVENT
DTSTART;TZID=America/Denver:20250608T093000
DTEND;TZID=America/Denver:20250608T133000
DTSTAMP:20260421T080254
CREATED:20250316T152714Z
LAST-MODIFIED:20250520T173629Z
UID:2489-1749375000-1749389400@garrett-martin.com
SUMMARY:Music & Message - Afternoon Concert - CSL Colorado Springs
DESCRIPTION:We are looking forward to coming back to the Center for Spiritual Living Colorado Springs!!   We will do a Music & Message presentation in the morning starting at 9:30 am.   Then following a potluck\, we will give a concert at 12 noon featuring our new album\, Hidden Gems and other favorites.   Tickets are $20 in advance and $25 at the door.  We hope you will join us!
URL:https://garrett-martin.com/event/music-message-csl-colorado-springs/
LOCATION:CSL Colorado Springs\, 5075 Flintridge Dr\, Colorado Springs\, CO\, 80918\, United States
END:VEVENT
BEGIN:VEVENT
DTSTART;TZID=America/Los_Angeles:20250216T090000
DTEND;TZID=America/Los_Angeles:20250216T140000
DTSTAMP:20260421T080254
CREATED:20241211T185308Z
LAST-MODIFIED:20250204T002003Z
UID:2419-1739696400-1739714400@garrett-martin.com
SUMMARY:Music & Message & Afternoon Concert - Spiritual Life Center - Sacramento
DESCRIPTION:We have loved singing for this community over the years and are so happy to be returning!   At 9:00 and 11:00 am we are giving a Music & Message presentation: “The Heart of Harmony: Stay Tuned!”  And in the afternoon a concert\, “Hidden Gems and More…”   Joining us on harmony vocals is Bev Barnett. \nConcert Details including tickets.
URL:https://garrett-martin.com/event/music-message-afternoon-concert-spiritual-life-center-sacramento/
LOCATION:Spiritual Life Center\, 2201 Park Towne Cir\, Sacramento\, CA\, 95860\, United States
END:VEVENT
BEGIN:VEVENT
DTSTART;TZID=America/Los_Angeles:20250209T103000
DTEND;TZID=America/Los_Angeles:20250209T140000
DTSTAMP:20260421T080254
CREATED:20241211T184518Z
LAST-MODIFIED:20250204T002140Z
UID:2416-1739097000-1739109600@garrett-martin.com
SUMMARY:Music & Message & Afternoon Concert - Napa Valley Center for Spiritual Living
DESCRIPTION:We are looking forward to our visit here….our first time in Napa Valley!   At 10:30 am we give a Music & Message presentation: ” The Heart of Harmony: Stay Tuned!”  After a potluck\, we will be giving a concert at 12:30 pm.  Tickets and more info.  Please join us!!
URL:https://garrett-martin.com/event/music-message-afternoon-concert-napa-valley-center-for-spiritual-living/
LOCATION:Napa Valley Center for Spiritual Living\, 1249 Coombs St\, Napa\, California\, 94559\, United States
END:VEVENT
BEGIN:VEVENT
DTSTART;TZID=America/New_York:20250120T183000
DTEND;TZID=America/New_York:20250120T203000
DTSTAMP:20260421T080254
CREATED:20241211T183538Z
LAST-MODIFIED:20241211T183538Z
UID:2414-1737397800-1737405000@garrett-martin.com
SUMMARY:Jan & JD in Concert - Unity of Venice
DESCRIPTION:The Grammy award-winning songwriter\, Paul Williams writes\, “Jan Garrett and JD Martin’s performances and recordings are a spectacularly creative collection of heartsongs\, inspired life lessons sung with ease and joy\, reminding me again and again that every day is a gift….”   Lisa Figueroa on Harmony vocals!   $20 at the door.
URL:https://garrett-martin.com/event/jan-jd-in-concert-unity-of-venice/
LOCATION:Unity of Venice\, 125 North Jackson Rd\, Venice\, FL\, 34292\, United States
END:VEVENT
BEGIN:VEVENT
DTSTART;TZID=America/New_York:20250119T103000
DTEND;TZID=America/New_York:20250119T170000
DTSTAMP:20260421T080254
CREATED:20241211T183232Z
LAST-MODIFIED:20241211T183232Z
UID:2412-1737282600-1737306000@garrett-martin.com
SUMMARY:Music & Message Presentation - "The Heart of Harmony: Stay Tuned!"
DESCRIPTION:In this powerful presentation Jan & JD weave Music & Message together in a dynamic format that dives deep and fully engages the congregation\, opening the heart\, and refreshing the spirit.  Their multi-award winning original songs  are rich and intelligent\, a velvet-hammer wake-up call as satisfying to the soul as they are to the ear….and the speaking ties it all artfully together in a lasting inspiration. We will be joined by Lisa Figueroa on harmony vocals! 
URL:https://garrett-martin.com/event/music-message-presentation-the-heart-of-harmony-stay-tuned/
LOCATION:Unity of Venice\, 125 North Jackson Rd\, Venice\, FL\, 34292\, United States
END:VEVENT
BEGIN:VEVENT
DTSTART;TZID=America/New_York:20250118T100000
DTEND;TZID=America/New_York:20250118T140000
DTSTAMP:20260421T080254
CREATED:20241211T182746Z
LAST-MODIFIED:20241211T182746Z
UID:2410-1737194400-1737208800@garrett-martin.com
SUMMARY:Mini Retreat - Heart of the Vision Quest - Venice\, FL
DESCRIPTION:“Heart of the Vision Quest: Messages Hidden in Plain Sight.”  Please join us for this extended workshop at Unity of Venice.  Bring a lunch and get ready for deep fun!  $60 in advance;  $70 at the door (call the church office: 941.484.5342)
URL:https://garrett-martin.com/event/mini-retreat-heart-of-the-vision-quest-venice-fl/
LOCATION:Unity of Venice\, 125 North Jackson Rd\, Venice\, FL\, 34292\, United States
END:VEVENT
BEGIN:VEVENT
DTSTART;TZID=America/New_York:20250117T183000
DTEND;TZID=America/New_York:20250117T203000
DTSTAMP:20260421T080254
CREATED:20241211T182053Z
LAST-MODIFIED:20241211T182230Z
UID:2405-1737138600-1737145800@garrett-martin.com
SUMMARY:Concert at Covenant Mennonite Fellowship - Sarasota
DESCRIPTION:Please join us for this special event….a fund raiser for the church.   JD comes from this spiritual tradition and will share an original song that is in the Mennonite Hymnal.  Donations only.
URL:https://garrett-martin.com/event/concert-at-covenant-mennonite-fellowship-sarasota/
LOCATION:Covenant Mennonite Fellowship\, 5420 Ashton Rd\, Sarasota\, FL 34233\, United States
END:VEVENT
BEGIN:VEVENT
DTSTART;TZID=America/Denver:20241222T190000
DTEND;TZID=America/Denver:20241222T210000
DTSTAMP:20260421T080254
CREATED:20241130T153817Z
LAST-MODIFIED:20241130T154448Z
UID:2386-1734894000-1734901200@garrett-martin.com
SUMMARY:Jan & JD - featured in Brent Rowan and Friends: Acoustic Christmas
DESCRIPTION:We are so excited to be part of Brent’s longstanding Christmas tradition in Steamboat Springs!!  Brent and JD have a very long history from their Nashville days.  Brent is a premier session guitarist!  JD was fortunate to have him play on many of his demo recordings.  Brent has also played on many of Jan & JD’s recordings.  So this is not to be missed!!    More information and tickets.
URL:https://garrett-martin.com/event/jan-jd-featured-in-brent-rowan-and-friends-acoustic-christmas/
LOCATION:Strings Music Pavilion\, 950 Strings Road\, Steamboat Springs\, 80487\, United States
END:VEVENT
BEGIN:VEVENT
DTSTART;TZID=America/Denver:20241220T180000
DTEND;TZID=America/Denver:20241220T200000
DTSTAMP:20260421T080254
CREATED:20241128T182040Z
LAST-MODIFIED:20241128T182040Z
UID:2381-1734717600-1734724800@garrett-martin.com
SUMMARY:Jan & JD's 34th Winter Solstice Concert (via Zoom)
DESCRIPTION:Please join us for our 34th annual Winter Solstice Concert!!   We are singing to you again via Zoom….loving that folks from all over the USA and the world can join with us.  Tickets are $35.  6:00 pm Mountain Time.  Click here to purchase.
URL:https://garrett-martin.com/event/jan-jds-34th-winter-solstice-concert-via-zoom/
LOCATION:CO
END:VEVENT
BEGIN:VEVENT
DTSTART;TZID=America/Denver:20241201T103000
DTEND;TZID=America/Denver:20241201T140000
DTSTAMP:20260421T080254
CREATED:20240809T151925Z
LAST-MODIFIED:20241119T214624Z
UID:2091-1733049000-1733061600@garrett-martin.com
SUMMARY:Center for Spiritual Living Grand Junction - Music & Message & Concert
DESCRIPTION:We are giving a Music & Message presentation\,” The Heart of Harmony: Stay Tuned.” at 10:30 am.   Then a potluck meal.  And at 1:00 pm a concert featuring songs from our new album\, “Hidden Gems.”  Gretchen McGeeney on harmony vocals! \nWe hope you can join us!
URL:https://garrett-martin.com/event/center-for-spiritual-living-grand-junction-music-message/
LOCATION:Center for Spiritual Living Grand Junction\, 491 Sparn Street Grand Junction\, CO 81501\, CO\, 81501\, United States
END:VEVENT
BEGIN:VEVENT
DTSTART;TZID=America/Denver:20241116T180000
DTEND;TZID=America/Denver:20241116T193000
DTSTAMP:20260421T080254
CREATED:20240201T004433Z
LAST-MODIFIED:20241107T173417Z
UID:1336-1731780000-1731785400@garrett-martin.com
SUMMARY:New Album Release Concert – Carbondale\, CO
DESCRIPTION:We are releasing our newest album of original songs\, “Hidden Gems\,” in concert…..joined by Marcy Baruch on harmony vocals. \nClick HERE for Advance Tickets @ $30.   $35 at the door. \nThis new album is a collection of previously unreleased favorites…Music to open the heart and refresh the spirit. \n3rd Street Center – Carbondale\, CO \nSponsored by The Center for Human Flourishing.
URL:https://garrett-martin.com/event/concert-3rd-street-center-carbondale/
LOCATION:Third Street Center\, 520 S 3rd St\, Carbondale\, CO\, 81623\, United States
END:VEVENT
BEGIN:VEVENT
DTSTART;TZID=America/New_York:20241006T103000
DTEND;TZID=America/New_York:20241006T123000
DTSTAMP:20260421T080254
CREATED:20240409T150341Z
LAST-MODIFIED:20240809T151140Z
UID:1767-1728210600-1728217800@garrett-martin.com
SUMMARY:Unity of Charlottesville - Music & Message
DESCRIPTION:Please join us for a Music & Message presentation at one of our favorite centers.   Blair Jones on harmony vocals.
URL:https://garrett-martin.com/event/unity-of-charlottesville-music-message/
LOCATION:Unity of Charlottesville\, 2825 Hydraulic Road\, Charlottesville\, VA\, 22901\, United States
END:VEVENT
BEGIN:VEVENT
DTSTART;TZID=America/New_York:20241005T170000
DTEND;TZID=America/New_York:20241005T200000
DTSTAMP:20260421T080254
CREATED:20240809T150623Z
LAST-MODIFIED:20240901T122000Z
UID:2082-1728147600-1728158400@garrett-martin.com
SUMMARY:Jan & JD Concert & Blair Jones CD Release Party
DESCRIPTION:Blair has recorded her latest album “Newborn Child” with some help from JD and Jan.  Please come out and join us for her CD release!  AND for a concert by Jan & JD with Blair on harmony vocals. \n7661 Greenwood Station Road\, Greenwood\, VA 22943 \nTickets $20 in advance.  $25 at the door.
URL:https://garrett-martin.com/event/jan-jd-concert-blair-jones-cd-release-party/
LOCATION:CO
END:VEVENT
BEGIN:VEVENT
DTSTART;TZID=America/New_York:20241004T173000
DTEND;TZID=America/New_York:20241004T193000
DTSTAMP:20260421T080254
CREATED:20240809T151354Z
LAST-MODIFIED:20240901T121845Z
UID:2089-1728063000-1728070200@garrett-martin.com
SUMMARY:Concert in Lynchburg\, VA
DESCRIPTION:The LaDaDas are our opening act!   And we will be joined by Blair Jones on harmony vocals! \n2261 Thomas Jefferson Road\, Forest\, VA 24551 \nTickets $20 in advance.   $25 at the door.
URL:https://garrett-martin.com/event/concert-in-lynchburg-va/
LOCATION:CO
END:VEVENT
BEGIN:VEVENT
DTSTART;TZID=America/New_York:20240929T110000
DTEND;TZID=America/New_York:20240929T110000
DTSTAMP:20260421T080254
CREATED:20240409T150234Z
LAST-MODIFIED:20240809T150947Z
UID:1765-1727607600-1727607600@garrett-martin.com
SUMMARY:Unity of Fairfax
DESCRIPTION:We are providing special music.   Carole Tomhave on harmony vocals.
URL:https://garrett-martin.com/event/unity-of-fairfax-music-message/
LOCATION:Unity of Fairfax\, 2854 Hunter Mill Road\, Oakton\, VA\, 22124\, United States
END:VEVENT
BEGIN:VEVENT
DTSTART;TZID=America/New_York:20240928T190000
DTEND;TZID=America/New_York:20240928T200000
DTSTAMP:20260421T080254
CREATED:20240805T133042Z
LAST-MODIFIED:20240901T122714Z
UID:2078-1727550000-1727553600@garrett-martin.com
SUMMARY:House Concert - Private Home - Browntown\, VA
DESCRIPTION:Please join us for a very sweet concert in a private home near the Skyline Drive….gorgeous views and music!!   Opening for us is Roger Tomhave with his beautiful and intimate songs. Carole Tomhave will be joining us on harmony vocals.   Not to be missed!  Tickets $25. Limited seating – reservations required.  Contact caroletomhave@gmail.com – (540) 631-1717
URL:https://garrett-martin.com/event/house-concert-private-home-front-royal-va/
LOCATION:CO
END:VEVENT
BEGIN:VEVENT
DTSTART;TZID=America/Denver:20240904T190000
DTEND;TZID=America/Denver:20240904T210000
DTSTAMP:20260421T080254
CREATED:20240410T143341Z
LAST-MODIFIED:20240901T122121Z
UID:1901-1725476400-1725483600@garrett-martin.com
SUMMARY:Concert - Grand Mesa Arts Center\, Cedaredge
DESCRIPTION:Please join us on September 4\, 7:00 pm for the Guilty Pleasures Concert Series. \nAn intimate acoustic concert in the Gallery with music\, dessert at intermission\, and specialty drinks. \nGretchen McGeeney on harmony vocals!
URL:https://garrett-martin.com/event/concert-grand-mesa-arts-center-cedaredge/
LOCATION:Grand Mesa Arts Center\, 195 W. Main Street Cedaredge\, CO 81413
END:VEVENT
BEGIN:VEVENT
DTSTART;VALUE=DATE:20240809
DTEND;VALUE=DATE:20240812
DTSTAMP:20260421T080254
CREATED:20240410T142333Z
LAST-MODIFIED:20240801T182921Z
UID:1896-1723161600-1723420799@garrett-martin.com
SUMMARY:Bliss - Colorado & Sacred Sound Festival
DESCRIPTION:We will be doing a set on Sunday morning\, August 11\, at 10 am.   Gayan Gregory Long on percussion and Marcy Baruch on harmony vocals.   We hope you can attend the festival and join us!!
URL:https://garrett-martin.com/event/bliss-colorado-sacred-sound-festival/
LOCATION:Yellow Barn\, 9417 N Foothills Hwy\, Longmont\, CO 80503\, United States
END:VEVENT
BEGIN:VEVENT
DTSTART;TZID=America/Denver:20240622T173000
DTEND;TZID=America/Denver:20240622T193000
DTSTAMP:20260421T080254
CREATED:20240409T145009Z
LAST-MODIFIED:20240409T145009Z
UID:1763-1719077400-1719084600@garrett-martin.com
SUMMARY:Concert - Pitkin County Library
DESCRIPTION:We hope you can join us for this free special Aspen concert!   Marcy Baruch on harmony vocals. \nWe are thrilled to bring Jan Garrett and JD Martin back to our concert series again in 2024!”These are two incredible musicians — getting in a groove\, Jan Garrett can scat like Ella and JD Martin sounds like Dr. John on the keys… but it is in their songwriting and collaboration where they are true originals and really shine. Jan & JDs songs are full of deep beauty and timeless harmonies; you’ll be smiling long after\, and wishing to hear more.”— Nathan Child\, Music Library Manager\, Pitkin County Library
URL:https://garrett-martin.com/event/concert-pitkin-county-library/
LOCATION:Pitkin Couny Library\, 120 N Mill S\, Aspen\, CO\, 81611\, United States
END:VEVENT
BEGIN:VEVENT
DTSTART;TZID=America/Denver:20240512T100000
DTEND;TZID=America/Denver:20240512T120000
DTSTAMP:20260421T080254
CREATED:20240429T133356Z
LAST-MODIFIED:20240429T133356Z
UID:2023-1715508000-1715515200@garrett-martin.com
SUMMARY:"The Great Mother" -  Music & Message - Unity Fort Collins
DESCRIPTION:Whatever examples of great mothering we may or may not have had growing up\, we each have the chance to embody that deep\, loving\, and supportive energy in ourselves right now.  Jan & JD….and their inspiring songs….encourage us to live into the fierce and benevolent essence of the Great Mother\, and to send it out to make a good difference in the world.
URL:https://garrett-martin.com/event/the-great-mother-music-message-unity-fort-collins/
LOCATION:Unity of Fort Collins\, 1401 West Vine Dr.\, Fort Collins\, CO\, 80521\, United States
END:VEVENT
BEGIN:VEVENT
DTSTART;VALUE=DATE:20240225
DTEND;VALUE=DATE:20240226
DTSTAMP:20260421T080254
CREATED:20240201T011811Z
LAST-MODIFIED:20240201T022403Z
UID:1352-1708819200-1708905599@garrett-martin.com
SUMMARY:House Concert – North Scottsdale\, AZ
DESCRIPTION:Please join us for a special evening at this beautiful home\, hosted by a dear friend.  The potluck starts at 5:30 pm;  the concert at 7:00 pm. Marcy Baruch on harmony vocals!  $20 suggested donation. For more details\, please write to us: Info@Garrett-Martin.com.
URL:https://garrett-martin.com/event/house-concert-north-scottsdale-az/
LOCATION:CO
END:VEVENT
BEGIN:VEVENT
DTSTART;TZID=UTC:20240218T000000
DTEND;TZID=UTC:20240218T000000
DTSTAMP:20260421T080254
CREATED:20240201T011259Z
LAST-MODIFIED:20240201T011437Z
UID:1348-1708214400-1708214400@garrett-martin.com
SUMMARY:New Vision CSL – Phoenix – Music & Message & Workshop – February 18
DESCRIPTION:We will be giving a Music & Message presentation on Feb 18th at 10 am.  Followed by a potluck lunch and then a workshop\, “The Heart of the Vision Quest.”
URL:https://garrett-martin.com/event/new-vision-csl-phoenix-music-message-workshop-february-18/
LOCATION:New Vision Center\, 18010 N. Tatum Blvd.\, Phoenix\, AZ\, 85032\, United States
END:VEVENT
BEGIN:VEVENT
DTSTART;TZID=UTC:20240131T110000
DTEND;TZID=UTC:20240131T130000
DTSTAMP:20260421T080254
CREATED:20240131T232347Z
LAST-MODIFIED:20240131T232414Z
UID:1271-1706698800-1706706000@garrett-martin.com
SUMMARY:Music & Message – Unity of Fairfax
DESCRIPTION:Join us for a Music & Message presentation! \nAmy Conley on harmony vocals. \nVaccination required.
URL:https://garrett-martin.com/event/music-message-unity-of-fairfax/
LOCATION:Unity of Fairfax\, 2854 Hunter Mill Road\, Oakton\, VA\, 22124\, United States
END:VEVENT
END:VCALENDAR